BEGIN:VCALENDAR
VERSION:2.0
PRODID:-//王进的个人网站 - ECPv5.10.0//NONSGML v1.0//EN
CALSCALE:GREGORIAN
METHOD:PUBLISH
X-WR-CALNAME:王进的个人网站
X-ORIGINAL-URL:https://www.jingege.wang
X-WR-CALDESC:Events for 王进的个人网站
BEGIN:VTIMEZONE
TZID:Asia/Shanghai
BEGIN:STANDARD
TZOFFSETFROM:+0800
TZOFFSETTO:+0800
TZNAME:CST
DTSTART:20210101T000000
END:STANDARD
END:VTIMEZONE
BEGIN:VEVENT
DTSTART;TZID=Asia/Shanghai:20220712T080000
DTEND;TZID=Asia/Shanghai:20220712T103000
DTSTAMP:20260425T202457
CREATED:20220706T114551Z
LAST-MODIFIED:20220706T114551Z
UID:7824-1657612800-1657621800@www.jingege.wang
SUMMARY:第72批博士后科学基金线上辅导会议
DESCRIPTION:7月12日上午8：30-10：30通过腾讯会议（会议号377568177）举行召开第72批博士后科学基金线上辅导会议，建议你参会（能够在8月31日前入职的都可以申请）；如果可以参会，请务必提前10分钟进入视频会议！谢谢！如果申请博后项目，请务必在在8月15日前在系统内提交申报材料
URL:https://www.jingege.wang/event/%e7%ac%ac72%e6%89%b9%e5%8d%9a%e5%a3%ab%e5%90%8e%e7%a7%91%e5%ad%a6%e5%9f%ba%e9%87%91%e7%ba%bf%e4%b8%8a%e8%be%85%e5%af%bc%e4%bc%9a%e8%ae%ae/
CATEGORIES:博新计划
END:VEVENT
BEGIN:VEVENT
DTSTART;TZID=Asia/Shanghai:20220201T080000
DTEND;TZID=Asia/Shanghai:20220201T170000
DTSTAMP:20260425T202457
CREATED:20211130T145132Z
LAST-MODIFIED:20211130T145319Z
UID:6657-1643702400-1643734800@www.jingege.wang
SUMMARY:停止给药8周
DESCRIPTION:各组大鼠分别于染毒结束5天、4周和8周后\,用10 %水合氯醛麻醉后经腹主动脉放血处死。\n6只
URL:https://www.jingege.wang/event/%e5%81%9c%e6%ad%a2%e7%bb%99%e8%8d%af8%e5%91%a8/
CATEGORIES:碳化钨
END:VEVENT
BEGIN:VEVENT
DTSTART;TZID=Asia/Shanghai:20220107T130000
DTEND;TZID=Asia/Shanghai:20220107T170000
DTSTAMP:20260425T202457
CREATED:20211130T145025Z
LAST-MODIFIED:20220105T021959Z
UID:6655-1641560400-1641574800@www.jingege.wang
SUMMARY:停止给药4周
DESCRIPTION:各组大鼠分别于染毒结束5天、4周和8周后\,用10 %水合氯醛麻醉后经腹主动脉放血处死。\n6只
URL:https://www.jingege.wang/event/%e5%81%9c%e6%ad%a2%e7%bb%99%e8%8d%af4%e5%91%a8/
CATEGORIES:碳化钨
END:VEVENT
BEGIN:VEVENT
DTSTART;TZID=Asia/Shanghai:20211212T080000
DTEND;TZID=Asia/Shanghai:20211212T170000
DTSTAMP:20260425T202457
CREATED:20211130T144834Z
LAST-MODIFIED:20211209T101550Z
UID:6653-1639296000-1639328400@www.jingege.wang
SUMMARY:停止给药5天
DESCRIPTION:工作安排： \n1、  水合氯醛麻醉（8%，1.5ml），大鼠称重记录； \n2、  静脉采血：2ml 柠檬酸钠抗凝管用于FACS 血常规分析裂红后加冻存液冻存 \n5ml 于血清管分血清用于血生化（ELISA）-80℃保存 \n3、  腹主动脉放血； \n4、  BALF样本制备： \n1)    打开胸腔，暴露肺；用细线结扎右主支气管； \n2)    剪开颈部皮肤，钝性剥离肌肉，找到气管；（需准备剪刀，镊子，止血钳） \n3)    用细线结扎近口端气管； \n4)    用注射器针头刺穿气管，小心插入预制导管，进气管约1cm，用细线扎住导管以稳定； \n5)    注射器吸20ml PBS缓冲液，将 PBS慢慢注入大鼠肺脏，见左肺膨起，缓慢回抽，反复5次，回收BALF至EP管，冰浴； \n6)    在4 ℃下以1500 r/min离心15 min，取上清于-20 ℃冰箱保存备用，如须保存3个月以上，则需于-70℃冰箱储存； \n7)    上清液用做可溶性成分（白蛋白、总蛋白、IL-6和TNF-α）的检测； \n8)    细胞沉淀加入2 ml细胞冻存液，保存于-80℃冰箱，后复苏用于流式分类计数。 \n  \n  \n5、  器官组织样本 \n1)    大鼠处死后，用无菌眼科剪分离肺脏、心脏、肝脏、脾脏、肾脏、胸腺、睾丸； \n吸取器官表面的血污后，称取器官重量，记录数据； \n2)    剪取约0.2- 0.5 g准确称重后置于EP管中，保存于-20 ℃冰箱中，用于测量器官内的钨浓度。 \n\n大鼠编号： \n对照组：1101-1106 \n实验组：2101-2106
URL:https://www.jingege.wang/event/%e5%81%9c%e6%ad%a2%e7%bb%99%e8%8d%af5%e5%a4%a9/
CATEGORIES:碳化钨
END:VEVENT
BEGIN:VEVENT
DTSTART;TZID=Asia/Shanghai:20211207T080000
DTEND;TZID=Asia/Shanghai:20211207T170000
DTSTAMP:20260425T202457
CREATED:20211130T144356Z
LAST-MODIFIED:20211130T144356Z
UID:6651-1638864000-1638896400@www.jingege.wang
SUMMARY:第八次给药
DESCRIPTION:
URL:https://www.jingege.wang/event/%e7%ac%ac%e5%85%ab%e6%ac%a1%e7%bb%99%e8%8d%af/
CATEGORIES:碳化钨
END:VEVENT
BEGIN:VEVENT
DTSTART;TZID=Asia/Shanghai:20211203T080000
DTEND;TZID=Asia/Shanghai:20211203T170000
DTSTAMP:20260425T202457
CREATED:20211130T144326Z
LAST-MODIFIED:20211130T144326Z
UID:6649-1638518400-1638550800@www.jingege.wang
SUMMARY:第七次给药
DESCRIPTION:
URL:https://www.jingege.wang/event/%e7%ac%ac%e4%b8%83%e6%ac%a1%e7%bb%99%e8%8d%af/
CATEGORIES:碳化钨
END:VEVENT
BEGIN:VEVENT
DTSTART;TZID=Asia/Shanghai:20211130T080000
DTEND;TZID=Asia/Shanghai:20211130T170000
DTSTAMP:20260425T202457
CREATED:20211130T144303Z
LAST-MODIFIED:20211130T144303Z
UID:6647-1638259200-1638291600@www.jingege.wang
SUMMARY:第六次给药
DESCRIPTION:
URL:https://www.jingege.wang/event/%e7%ac%ac%e5%85%ad%e6%ac%a1%e7%bb%99%e8%8d%af/
CATEGORIES:碳化钨
END:VEVENT
BEGIN:VEVENT
DTSTART;TZID=Asia/Shanghai:20211126T080000
DTEND;TZID=Asia/Shanghai:20211126T170000
DTSTAMP:20260425T202457
CREATED:20211130T144241Z
LAST-MODIFIED:20211130T144241Z
UID:6645-1637913600-1637946000@www.jingege.wang
SUMMARY:第五次给药
DESCRIPTION:
URL:https://www.jingege.wang/event/%e7%ac%ac%e4%ba%94%e6%ac%a1%e7%bb%99%e8%8d%af/
CATEGORIES:碳化钨
END:VEVENT
BEGIN:VEVENT
DTSTART;TZID=Asia/Shanghai:20211123T080000
DTEND;TZID=Asia/Shanghai:20211123T170000
DTSTAMP:20260425T202457
CREATED:20211130T144208Z
LAST-MODIFIED:20211130T144208Z
UID:6643-1637654400-1637686800@www.jingege.wang
SUMMARY:第四次给药
DESCRIPTION:
URL:https://www.jingege.wang/event/%e7%ac%ac%e5%9b%9b%e6%ac%a1%e7%bb%99%e8%8d%af/
CATEGORIES:碳化钨
END:VEVENT
BEGIN:VEVENT
DTSTART;TZID=Asia/Shanghai:20211119T080000
DTEND;TZID=Asia/Shanghai:20211119T170000
DTSTAMP:20260425T202457
CREATED:20211130T144139Z
LAST-MODIFIED:20211130T144139Z
UID:6641-1637308800-1637341200@www.jingege.wang
SUMMARY:第一次给药
DESCRIPTION:
URL:https://www.jingege.wang/event/%e7%ac%ac%e4%b8%80%e6%ac%a1%e7%bb%99%e8%8d%af-2/
CATEGORIES:碳化钨
END:VEVENT
BEGIN:VEVENT
DTSTART;TZID=Asia/Shanghai:20211116T080000
DTEND;TZID=Asia/Shanghai:20211116T170000
DTSTAMP:20260425T202457
CREATED:20211130T144117Z
LAST-MODIFIED:20211130T144117Z
UID:6639-1637049600-1637082000@www.jingege.wang
SUMMARY:第二次给药
DESCRIPTION:
URL:https://www.jingege.wang/event/%e7%ac%ac%e4%ba%8c%e6%ac%a1%e7%bb%99%e8%8d%af/
CATEGORIES:碳化钨
END:VEVENT
BEGIN:VEVENT
DTSTART;TZID=Asia/Shanghai:20211112T080000
DTEND;TZID=Asia/Shanghai:20211112T170000
DTSTAMP:20260425T202457
CREATED:20211130T144048Z
LAST-MODIFIED:20211130T144048Z
UID:6637-1636704000-1636736400@www.jingege.wang
SUMMARY:第一次给药
DESCRIPTION:
URL:https://www.jingege.wang/event/%e7%ac%ac%e4%b8%80%e6%ac%a1%e7%bb%99%e8%8d%af/
CATEGORIES:碳化钨
END:VEVENT
BEGIN:VEVENT
DTSTART;VALUE=DATE:20211108
DTEND;VALUE=DATE:20211115
DTSTAMP:20260425T202457
CREATED:20210912T161432Z
LAST-MODIFIED:20210912T161432Z
UID:6044-1636329600-1636934399@www.jingege.wang
SUMMARY:Meeting：RNA Modifications and Epitranscriptomics
DESCRIPTION:RNA Modifications and Epitranscriptomics \nSuzhou\, China \n  \nNovember 8-November 12\, 2021 \nAbstract deadline: September 24\, 2021 \n  \nOrganized by: \nYun-Gui Yang\, China National Center For Bioinformation \nMichaela Frye\, German Cancer Research Center \nNarry Kim\, Seoul National University \nChuan He\, University of Chicago \n\n\n\n\n\n\n\n  \n  \n  \n  \n  \n  \n  \n  \n  \nWe are pleased to announce the Cold Spring Harbor Asia conference on RNA Modifications and Epitranscriptomics which will be held in Suzhou\, China\, located approximately 60 miles west of Shanghai. The conference will begin at 7:00pm in the evening of Monday November 8\, and will conclude after lunch on Friday November 12\, 2021. \nThe conference will include eight oral sessions and one poster session covering the latest findings across diverse topics in RNA modifications and Epitranscriptomics. Oral presentations will also be selected from the openly submitted abstracts based on scientific merit and relevance. Social events throughout the conference provide ample opportunity for informal interactions. \n  \nMajor Topics: \n1. RNA methylation \n2. Functions of RNA methylation \n3. RNA modification in therapeutics \n4. RNA modification in virus regulation \n5. RNA modification in chromatin regulation \n6. RNA editing\, RNA adenylation & RNA uridylation \n7. tRNA and rRNA modifications \n8. Other RNA modifications \nKeynote Speakers: \n  \nMichaela Frye\, German Cancer Research Center \nNarry Kim\, Seoul National University \nTony Kouzarides\, Gurdon Institute \nInvited Speakers:\n \nUttiya Basu\, Columbia University \nSung Wook Chi\, Korea University \nPeter Dedon\, Massachusetts Institute of Technology \nChuan He\, University of Chicago \nSuyun Huang\, Virginia Commonwealth University \nGuifang Jia\, Peking University \nKamil Kranc\, Cancer Research UK Barts Centre \nDongxin Lin\, Chinese Academy of Medical Sciences \nMofang Liu\, Institute of Biochemistry & Cell Biology\, CAS \nEva Maria Novoa\, Centre for Genomic Regulation \nShalini Oberdoerffer\, National Cancer Institute \nSchraga Schwartz\, Weizmann Institute of Science \nYang Shi\, The Ludwig Institute for Cancer Research\, Oxford University \nTsutomu Suzuki\,Tokyo University \nFan-Yan Wei\, Tohoku University \nYun-Gui Yang\, China National Center for Bioinformation \nChengqi Yi\, Peking University \nKijin Yoon\, Korea Institute of Science and Technology \nXiang Zhou\, University of Wuhan \nand more… \nWe encourage abstracts to contain new and unpublished materials. The abstracts must be submitted electronically by the abstract deadline. Selection of material for oral and poster presentation will be made by the organizers. Status (fellow’s talk/poster) of abstracts will be posted on our web site as soon as decisions have been made by the organizers. \nFellowship: \nWe are eager to have as many young people as possible attend since they are likely to benefit most from this meeting. A certain number of presentations by graduate students and postdocs in this conference will be selected as fellowship (USD $100-$500) awards. For more details\, please visit  Stipends \nWe look forward to seeing you at Suzhou in November\, 2021.
URL:https://www.jingege.wang/event/meeting%ef%bc%9arna-modifications-and-epitranscriptomics/
CATEGORIES:生活安排
END:VEVENT
BEGIN:VEVENT
DTSTART;VALUE=DATE:20211020
DTEND;VALUE=DATE:20211024
DTSTAMP:20260425T202457
CREATED:20210912T161901Z
LAST-MODIFIED:20210912T161901Z
UID:6046-1634688000-1635033599@www.jingege.wang
SUMMARY:Meeting：9th International Congress of Asian Society of Toxicology\, ASIATOX-IX
DESCRIPTION:Welcome Message \nWelcome to ASIATOX-2021 Hangzhou\, China \nThe Chinese Society of Toxicology is honored\, jointly with the Asian Society of Toxicology\, to organize the 9thInternational Congress of Asian Society of Toxicology (ASIATOX-IX) from October 20-23\, 2021\, in Hangzhou\, Zhejiang Province\, P. R. China. The congress theme is “The Asia Toxicology in Big Data Era: from Public Health to Environmental Safety”. On behalf of the Asian Society of Toxicology and the Chinese Society of Toxicology\, we are pleased to invite you to attend the ASIATOX-IX in October 20-23\, 2021. \nASIATOX Congress was sponsored by the Asian Society of Toxicology\, the first congress was held in 1997 in Yokohama\, Japan\, and since then eights congresses has already been hosted\, in turn\, by the member societies of ASIATOX. In ASIATOX-VIII (2018\, Thailand)\, the Council of Asian Society of Toxicology has passed a resolution to change the interval time of organizing the International Congress of ASIATOX from every three years to two years. ASIATOX Congress(2020) is an important academic event in the field of toxicology in Asia\, and will bring ASIATOX family together again two years after the successful ASIATOX-VIII (2018). We believe that the ASIATOX-IX will provide an excellent platform to promote the prosperity and development of toxicological science & technology in Asia\, and foster the scientific cooperation in Asia\, pacific region and the world. \nHangzhou\, the ASIATOX-IX venue\, is located in the northern part of Zhejiang province on the north bank of the Qiantang River estuary at the head of Hangzhou Bay. The city has a past over 2\,200 years and is one of the eight ancient capitals of China. Hangzhou stands at the eastern foot of a scenic range of hills\, the Tianmu (“Eye of Heaven”) Mountains\, and on the shore of the notable Xi-Hu (West Lake)\, celebrated in poetry and paintings for its beauty and a favorite imperial retreat. The West Laker is listed as a World Heritage Site in 2011 by UNESCO (China’s World Heritage Site Lists)\, is described as “has influenced garden design in the rest of China as well as Japan and Korea over the centuries” and “reflecting an idealized fusion between humans and nature”. Hangzhou’s architecture and gardens are renowned\, while Lingyan Temple in the city is considered one of the most famous Buddhist temples in China. Hangzhou is also a national center of higher education. \nThe congress academic activities of ASIATOX-IX will cover the latest research progress\, frontier theory and technology\, and future scientific development prospective in various aspects of toxicology\, as well as the practical application of toxicological knowledge and technology in the fields of environmental and ecological safety\, and human health. The congress will offer once again a great atmosphere for discussion\, scientific exchange and sharing ideas to ensure the further progress. We hope that you all enjoy the beautiful conference venue and take the opportunity to interact with your colleagues and the young scientists and students. \nWe wish to share with you an innovative and fruitful toxicology congress in Hangzhou. \nWelcome to ASIATOX 2021! \nSincerely\,
URL:https://www.jingege.wang/event/meeting%ef%bc%9a9th-international-congress-of-asian-society-of-toxicology-asiatox-ix/
CATEGORIES:生活安排
END:VEVENT
BEGIN:VEVENT
DTSTART;TZID=Asia/Shanghai:20211018T133000
DTEND;TZID=Asia/Shanghai:20211018T150000
DTSTAMP:20260425T202457
CREATED:20211008T074337Z
LAST-MODIFIED:20211011T082603Z
UID:6255-1634563800-1634569200@www.jingege.wang
SUMMARY:实验动物培训
DESCRIPTION:905号楼4楼
URL:https://www.jingege.wang/event/%e5%ae%9e%e9%aa%8c%e5%8a%a8%e7%89%a9%e5%9f%b9%e8%ae%ad/
CATEGORIES:生活安排
END:VEVENT
BEGIN:VEVENT
DTSTART;VALUE=DATE:20210913
DTEND;VALUE=DATE:20210915
DTSTAMP:20260425T202457
CREATED:20210913T005542Z
LAST-MODIFIED:20210913T005542Z
UID:6048-1631491200-1631663999@www.jingege.wang
SUMMARY:Se 文章修改回复
DESCRIPTION:
URL:https://www.jingege.wang/event/se-%e6%96%87%e7%ab%a0%e4%bf%ae%e6%94%b9%e5%9b%9e%e5%a4%8d/
CATEGORIES:其它实验
END:VEVENT
BEGIN:VEVENT
DTSTART;TZID=Asia/Shanghai:20210803T083000
DTEND;TZID=Asia/Shanghai:20210803T123000
DTSTAMP:20260425T202457
CREATED:20210802T123155Z
LAST-MODIFIED:20210802T123155Z
UID:5870-1627979400-1627993800@www.jingege.wang
SUMMARY:海科数据分析
DESCRIPTION:海科流式数据分析
URL:https://www.jingege.wang/event/%e6%b5%b7%e7%a7%91%e6%95%b0%e6%8d%ae%e5%88%86%e6%9e%90/
CATEGORIES:海科
END:VEVENT
BEGIN:VEVENT
DTSTART;VALUE=DATE:20210802
DTEND;VALUE=DATE:20210805
DTSTAMP:20260425T202457
CREATED:20210802T123258Z
LAST-MODIFIED:20210802T123258Z
UID:5872-1627862400-1628121599@www.jingege.wang
SUMMARY:Nano ROS数据报告
DESCRIPTION:
URL:https://www.jingege.wang/event/nano-ros%e6%95%b0%e6%8d%ae%e6%8a%a5%e5%91%8a/
CATEGORIES:海科
END:VEVENT
BEGIN:VEVENT
DTSTART;VALUE=DATE:20210707
DTEND;VALUE=DATE:20210711
DTSTAMP:20260425T202457
CREATED:20210704T154915Z
LAST-MODIFIED:20210704T154915Z
UID:5787-1625616000-1625961599@www.jingege.wang
SUMMARY:BTG2/BCL2 OE plasmid construct
DESCRIPTION:
URL:https://www.jingege.wang/event/btg2-bcl2-oe-plasmid-construct/
CATEGORIES:其它实验
END:VEVENT
BEGIN:VEVENT
DTSTART;VALUE=DATE:20210705
DTEND;VALUE=DATE:20210711
DTSTAMP:20260425T202457
CREATED:20210704T155108Z
LAST-MODIFIED:20210704T155108Z
UID:5789-1625443200-1625961599@www.jingege.wang
SUMMARY:miR-942/TNS1 UTR mutasion PCR
DESCRIPTION:
URL:https://www.jingege.wang/event/mir-942-tns1-utr-mutasion-pcr/
CATEGORIES:其它实验
END:VEVENT
BEGIN:VEVENT
DTSTART;VALUE=DATE:20210705
DTEND;VALUE=DATE:20210708
DTSTAMP:20260425T202457
CREATED:20210704T154714Z
LAST-MODIFIED:20210704T154714Z
UID:5785-1625443200-1625702399@www.jingege.wang
SUMMARY:BTG2/BCL2 shRNA construct
DESCRIPTION:
URL:https://www.jingege.wang/event/btg2-bcl2-shrna-construct/
CATEGORIES:其它实验
END:VEVENT
BEGIN:VEVENT
DTSTART;VALUE=DATE:20210705
DTEND;VALUE=DATE:20210707
DTSTAMP:20260425T202457
CREATED:20210704T154604Z
LAST-MODIFIED:20210704T154616Z
UID:5783-1625443200-1625615999@www.jingege.wang
SUMMARY:PCR for BTG2/BCL2 CDS
DESCRIPTION:
URL:https://www.jingege.wang/event/pcr-for-btg2-bcl2-cds/
CATEGORIES:其它实验
END:VEVENT
BEGIN:VEVENT
DTSTART;TZID=Asia/Shanghai:20210629T080000
DTEND;TZID=Asia/Shanghai:20210629T170000
DTSTAMP:20260425T202457
CREATED:20210628T010450Z
LAST-MODIFIED:20210628T010450Z
UID:5752-1624953600-1624986000@www.jingege.wang
SUMMARY:WB for miR-942 & 徐茜
DESCRIPTION:WB
URL:https://www.jingege.wang/event/wb-for-mir-942-%e5%be%90%e8%8c%9c/
CATEGORIES:YTHDC2
END:VEVENT
BEGIN:VEVENT
DTSTART;TZID=Asia/Shanghai:20210628T133000
DTEND;TZID=Asia/Shanghai:20210628T150000
DTSTAMP:20260425T202457
CREATED:20210628T005535Z
LAST-MODIFIED:20210628T005535Z
UID:5750-1624887000-1624892400@www.jingege.wang
SUMMARY:HepG2细胞种板
DESCRIPTION:for nanoparticles ROS
URL:https://www.jingege.wang/event/hepg2%e7%bb%86%e8%83%9e%e7%a7%8d%e6%9d%bf/
CATEGORIES:其它实验
END:VEVENT
BEGIN:VEVENT
DTSTART;TZID=Asia/Shanghai:20210614T123000
DTEND;TZID=Asia/Shanghai:20210614T140000
DTSTAMP:20260425T202457
CREATED:20210613T101412Z
LAST-MODIFIED:20210613T101412Z
UID:5697-1623673800-1623679200@www.jingege.wang
SUMMARY:逆转录徐文静miRNA
DESCRIPTION:
URL:https://www.jingege.wang/event/%e9%80%86%e8%bd%ac%e5%bd%95%e5%be%90%e6%96%87%e9%9d%99mirna/
CATEGORIES:其它实验
END:VEVENT
BEGIN:VEVENT
DTSTART;TZID=Asia/Shanghai:20210520T080000
DTEND;TZID=Asia/Shanghai:20210520T123000
DTSTAMP:20260425T202457
CREATED:20210516T170424Z
LAST-MODIFIED:20210516T170424Z
UID:5568-1621497600-1621513800@www.jingege.wang
SUMMARY:3月体检+疫苗
DESCRIPTION:
URL:https://www.jingege.wang/event/3%e6%9c%88%e4%bd%93%e6%a3%80%e7%96%ab%e8%8b%97/
CATEGORIES:生活安排
END:VEVENT
BEGIN:VEVENT
DTSTART;VALUE=DATE:20210501
DTEND;VALUE=DATE:20210502
DTSTAMP:20260425T202457
CREATED:20210501T133142Z
LAST-MODIFIED:20210501T133142Z
UID:5520-1619827200-1619913599@www.jingege.wang
SUMMARY:test
DESCRIPTION:
URL:https://www.jingege.wang/event/test/
END:VEVENT
BEGIN:VEVENT
DTSTART;VALUE=DATE:20210428
DTEND;VALUE=DATE:20210429
DTSTAMP:20260425T202457
CREATED:20210413T085643Z
LAST-MODIFIED:20210413T085643Z
UID:5478-1619568000-1619654399@www.jingege.wang
SUMMARY:学术科技文化节
DESCRIPTION:
URL:https://www.jingege.wang/event/%e5%ad%a6%e6%9c%af%e7%a7%91%e6%8a%80%e6%96%87%e5%8c%96%e8%8a%82/
CATEGORIES:生活安排
END:VEVENT
BEGIN:VEVENT
DTSTART;TZID=Asia/Shanghai:20210419T110000
DTEND;TZID=Asia/Shanghai:20210419T170000
DTSTAMP:20260425T202457
CREATED:20210418T234426Z
LAST-MODIFIED:20210418T234442Z
UID:5493-1618830000-1618851600@www.jingege.wang
SUMMARY:酶切连接转化
DESCRIPTION:for TNS1 UTR
URL:https://www.jingege.wang/event/%e9%85%b6%e5%88%87%e8%bf%9e%e6%8e%a5%e8%bd%ac%e5%8c%96/
CATEGORIES:YTHDC2
END:VEVENT
BEGIN:VEVENT
DTSTART;TZID=Asia/Shanghai:20210419T100000
DTEND;TZID=Asia/Shanghai:20210419T110000
DTSTAMP:20260425T202457
CREATED:20210418T234606Z
LAST-MODIFIED:20210418T234606Z
UID:5495-1618826400-1618830000@www.jingege.wang
SUMMARY:细胞种板for mimic
DESCRIPTION:
URL:https://www.jingege.wang/event/%e7%bb%86%e8%83%9e%e7%a7%8d%e6%9d%bffor-mimic/
CATEGORIES:其它实验
END:VEVENT
END:VCALENDAR