BEGIN:VCALENDAR
VERSION:2.0
PRODID:-//王进的个人网站 - ECPv5.10.0//NONSGML v1.0//EN
CALSCALE:GREGORIAN
METHOD:PUBLISH
X-WR-CALNAME:王进的个人网站
X-ORIGINAL-URL:https://www.jingege.wang
X-WR-CALDESC:Events for 王进的个人网站
BEGIN:VTIMEZONE
TZID:Asia/Shanghai
BEGIN:STANDARD
TZOFFSETFROM:+0800
TZOFFSETTO:+0800
TZNAME:CST
DTSTART:20210101T000000
END:STANDARD
END:VTIMEZONE
BEGIN:VEVENT
DTSTART;VALUE=DATE:20210322
DTEND;VALUE=DATE:20210324
DTSTAMP:20260422T021728
CREATED:20210321T163948Z
LAST-MODIFIED:20210321T163948Z
UID:5439-1616371200-1616543999@www.jingege.wang
SUMMARY:200b文章review edit
DESCRIPTION:
URL:https://www.jingege.wang/event/200b%e6%96%87%e7%ab%a0review-edit/
CATEGORIES:其它实验
END:VEVENT
BEGIN:VEVENT
DTSTART;TZID=Asia/Shanghai:20210322T080000
DTEND;TZID=Asia/Shanghai:20210322T170000
DTSTAMP:20260422T021728
CREATED:20210321T164609Z
LAST-MODIFIED:20210321T164609Z
UID:5447-1616400000-1616432400@www.jingege.wang
SUMMARY:狗狗B超
DESCRIPTION:四条  膀胱癌B超
URL:https://www.jingege.wang/event/%e7%8b%97%e7%8b%97b%e8%b6%85-2/
LOCATION:初心宠物医院\, 荣域花园\, 苏州\, 江苏\, 中国
CATEGORIES:其它实验
END:VEVENT
BEGIN:VEVENT
DTSTART;TZID=Asia/Shanghai:20210412T090000
DTEND;TZID=Asia/Shanghai:20210412T140000
DTSTAMP:20260422T021728
CREATED:20210401T060244Z
LAST-MODIFIED:20210408T090759Z
UID:5459-1618218000-1618236000@www.jingege.wang
SUMMARY:中信烟毒性检测
DESCRIPTION:三组，需要30只ICR小鼠，雌雄各半
URL:https://www.jingege.wang/event/%e4%b8%ad%e4%bf%a1%e7%83%9f%e6%af%92%e6%80%a7%e6%a3%80%e6%b5%8b/
LOCATION:中信检测
CATEGORIES:其它实验
END:VEVENT
BEGIN:VEVENT
DTSTART;VALUE=DATE:20210413
DTEND;VALUE=DATE:20210415
DTSTAMP:20260422T021728
CREATED:20210413T090241Z
LAST-MODIFIED:20210413T090241Z
UID:5488-1618272000-1618444799@www.jingege.wang
SUMMARY:Bladder报告 PPT
DESCRIPTION:
URL:https://www.jingege.wang/event/bladder%e6%8a%a5%e5%91%8a-ppt/
CATEGORIES:其它实验
END:VEVENT
BEGIN:VEVENT
DTSTART;TZID=Asia/Shanghai:20210419T100000
DTEND;TZID=Asia/Shanghai:20210419T110000
DTSTAMP:20260422T021728
CREATED:20210418T234606Z
LAST-MODIFIED:20210418T234606Z
UID:5495-1618826400-1618830000@www.jingege.wang
SUMMARY:细胞种板for mimic
DESCRIPTION:
URL:https://www.jingege.wang/event/%e7%bb%86%e8%83%9e%e7%a7%8d%e6%9d%bffor-mimic/
CATEGORIES:其它实验
END:VEVENT
BEGIN:VEVENT
DTSTART;TZID=Asia/Shanghai:20210614T123000
DTEND;TZID=Asia/Shanghai:20210614T140000
DTSTAMP:20260422T021728
CREATED:20210613T101412Z
LAST-MODIFIED:20210613T101412Z
UID:5697-1623673800-1623679200@www.jingege.wang
SUMMARY:逆转录徐文静miRNA
DESCRIPTION:
URL:https://www.jingege.wang/event/%e9%80%86%e8%bd%ac%e5%bd%95%e5%be%90%e6%96%87%e9%9d%99mirna/
CATEGORIES:其它实验
END:VEVENT
BEGIN:VEVENT
DTSTART;TZID=Asia/Shanghai:20210628T133000
DTEND;TZID=Asia/Shanghai:20210628T150000
DTSTAMP:20260422T021728
CREATED:20210628T005535Z
LAST-MODIFIED:20210628T005535Z
UID:5750-1624887000-1624892400@www.jingege.wang
SUMMARY:HepG2细胞种板
DESCRIPTION:for nanoparticles ROS
URL:https://www.jingege.wang/event/hepg2%e7%bb%86%e8%83%9e%e7%a7%8d%e6%9d%bf/
CATEGORIES:其它实验
END:VEVENT
BEGIN:VEVENT
DTSTART;VALUE=DATE:20210705
DTEND;VALUE=DATE:20210707
DTSTAMP:20260422T021728
CREATED:20210704T154604Z
LAST-MODIFIED:20210704T154616Z
UID:5783-1625443200-1625615999@www.jingege.wang
SUMMARY:PCR for BTG2/BCL2 CDS
DESCRIPTION:
URL:https://www.jingege.wang/event/pcr-for-btg2-bcl2-cds/
CATEGORIES:其它实验
END:VEVENT
BEGIN:VEVENT
DTSTART;VALUE=DATE:20210705
DTEND;VALUE=DATE:20210708
DTSTAMP:20260422T021728
CREATED:20210704T154714Z
LAST-MODIFIED:20210704T154714Z
UID:5785-1625443200-1625702399@www.jingege.wang
SUMMARY:BTG2/BCL2 shRNA construct
DESCRIPTION:
URL:https://www.jingege.wang/event/btg2-bcl2-shrna-construct/
CATEGORIES:其它实验
END:VEVENT
BEGIN:VEVENT
DTSTART;VALUE=DATE:20210705
DTEND;VALUE=DATE:20210711
DTSTAMP:20260422T021728
CREATED:20210704T155108Z
LAST-MODIFIED:20210704T155108Z
UID:5789-1625443200-1625961599@www.jingege.wang
SUMMARY:miR-942/TNS1 UTR mutasion PCR
DESCRIPTION:
URL:https://www.jingege.wang/event/mir-942-tns1-utr-mutasion-pcr/
CATEGORIES:其它实验
END:VEVENT
BEGIN:VEVENT
DTSTART;VALUE=DATE:20210707
DTEND;VALUE=DATE:20210711
DTSTAMP:20260422T021728
CREATED:20210704T154915Z
LAST-MODIFIED:20210704T154915Z
UID:5787-1625616000-1625961599@www.jingege.wang
SUMMARY:BTG2/BCL2 OE plasmid construct
DESCRIPTION:
URL:https://www.jingege.wang/event/btg2-bcl2-oe-plasmid-construct/
CATEGORIES:其它实验
END:VEVENT
BEGIN:VEVENT
DTSTART;VALUE=DATE:20210913
DTEND;VALUE=DATE:20210915
DTSTAMP:20260422T021728
CREATED:20210913T005542Z
LAST-MODIFIED:20210913T005542Z
UID:6048-1631491200-1631663999@www.jingege.wang
SUMMARY:Se 文章修改回复
DESCRIPTION:
URL:https://www.jingege.wang/event/se-%e6%96%87%e7%ab%a0%e4%bf%ae%e6%94%b9%e5%9b%9e%e5%a4%8d/
CATEGORIES:其它实验
END:VEVENT
END:VCALENDAR