BEGIN:VCALENDAR
VERSION:2.0
PRODID:-//王进的个人网站 - ECPv5.10.0//NONSGML v1.0//EN
CALSCALE:GREGORIAN
METHOD:PUBLISH
X-WR-CALNAME:王进的个人网站
X-ORIGINAL-URL:https://www.jingege.wang
X-WR-CALDESC:Events for 王进的个人网站
BEGIN:VTIMEZONE
TZID:Asia/Shanghai
BEGIN:STANDARD
TZOFFSETFROM:+0800
TZOFFSETTO:+0800
TZNAME:CST
DTSTART:20200101T000000
END:STANDARD
END:VTIMEZONE
BEGIN:VEVENT
DTSTART;TZID=Asia/Shanghai:20210107T170000
DTEND;TZID=Asia/Shanghai:20210108T010000
DTSTAMP:20260421T220943
CREATED:20210106T094548Z
LAST-MODIFIED:20210106T094548Z
UID:5160-1610038800-1610067600@www.jingege.wang
SUMMARY:WB for Gapdh
DESCRIPTION:
URL:https://www.jingege.wang/event/wb-for-gapdh/
CATEGORIES:GAPDH
END:VEVENT
BEGIN:VEVENT
DTSTART;TZID=Asia/Shanghai:20201202T160000
DTEND;TZID=Asia/Shanghai:20201203T010000
DTSTAMP:20260421T220943
CREATED:20201201T222512Z
LAST-MODIFIED:20201201T222512Z
UID:4773-1606924800-1606957200@www.jingege.wang
SUMMARY:qPCR for GAPDH analysis
DESCRIPTION:相对定量： \nreference：β-actin/18S-rRNA \ntarget：GAPDH \n绝对定量PCR
URL:https://www.jingege.wang/event/qpcr-for-gapdh-analysis/
CATEGORIES:GAPDH
END:VEVENT
END:VCALENDAR