BEGIN:VCALENDAR
VERSION:2.0
PRODID:-//王进的个人网站 - ECPv5.10.0//NONSGML v1.0//EN
CALSCALE:GREGORIAN
METHOD:PUBLISH
X-WR-CALNAME:王进的个人网站
X-ORIGINAL-URL:https://www.jingege.wang
X-WR-CALDESC:Events for 王进的个人网站
BEGIN:VTIMEZONE
TZID:Asia/Shanghai
BEGIN:STANDARD
TZOFFSETFROM:+0800
TZOFFSETTO:+0800
TZNAME:CST
DTSTART:20210101T000000
END:STANDARD
END:VTIMEZONE
BEGIN:VEVENT
DTSTART;VALUE=DATE:20210323
DTEND;VALUE=DATE:20210405
DTSTAMP:20260421T122303
CREATED:20210321T164215Z
LAST-MODIFIED:20210321T164215Z
UID:5443-1616457600-1617580799@www.jingege.wang
SUMMARY:构建慢病毒载体
DESCRIPTION:ZNRD1-AS1 \nYTHDC2 \nFOXM1 \n…
URL:https://www.jingege.wang/event/%e6%9e%84%e5%bb%ba%e6%85%a2%e7%97%85%e6%af%92%e8%bd%bd%e4%bd%93/
CATEGORIES:GAPDH,YTHDC2
END:VEVENT
BEGIN:VEVENT
DTSTART;TZID=Asia/Shanghai:20210414T100000
DTEND;TZID=Asia/Shanghai:20210414T110000
DTSTAMP:20260421T122303
CREATED:20210413T085947Z
LAST-MODIFIED:20210413T085947Z
UID:5484-1618394400-1618398000@www.jingege.wang
SUMMARY:Dual-luciferase转染
DESCRIPTION:293T细胞
URL:https://www.jingege.wang/event/dual-luciferase%e8%bd%ac%e6%9f%93/
CATEGORIES:GAPDH
END:VEVENT
BEGIN:VEVENT
DTSTART;TZID=Asia/Shanghai:20210416T090000
DTEND;TZID=Asia/Shanghai:20210416T110000
DTSTAMP:20260421T122303
CREATED:20210413T090119Z
LAST-MODIFIED:20210413T090119Z
UID:5486-1618563600-1618570800@www.jingege.wang
SUMMARY:Dual-luciferase检测
DESCRIPTION:
URL:https://www.jingege.wang/event/dual-luciferase%e6%a3%80%e6%b5%8b/
CATEGORIES:GAPDH
END:VEVENT
END:VCALENDAR