BEGIN:VCALENDAR
VERSION:2.0
PRODID:-//王进的个人网站 - ECPv5.10.0//NONSGML v1.0//EN
CALSCALE:GREGORIAN
METHOD:PUBLISH
X-WR-CALNAME:王进的个人网站
X-ORIGINAL-URL:https://www.jingege.wang
X-WR-CALDESC:Events for 王进的个人网站
BEGIN:VTIMEZONE
TZID:Asia/Shanghai
BEGIN:STANDARD
TZOFFSETFROM:+0800
TZOFFSETTO:+0800
TZNAME:CST
DTSTART:20200101T000000
END:STANDARD
END:VTIMEZONE
BEGIN:VEVENT
DTSTART;TZID=Asia/Shanghai:20201028T180000
DTEND;TZID=Asia/Shanghai:20201029T060000
DTSTAMP:20260422T005410
CREATED:20201026T052922Z
LAST-MODIFIED:20201026T052922Z
UID:4540-1603908000-1603951200@www.jingege.wang
SUMMARY:ZNRD1-AS1转染
DESCRIPTION:ZNRD1-AS1转染 pZNRD1-AS1/shZNRD1-AS1
URL:https://www.jingege.wang/event/znrd1-as1%e8%bd%ac%e6%9f%93/
CATEGORIES:YTHDC2
END:VEVENT
BEGIN:VEVENT
DTSTART;TZID=Asia/Shanghai:20201027T180000
DTEND;TZID=Asia/Shanghai:20201028T070000
DTSTAMP:20260422T005410
CREATED:20201026T052556Z
LAST-MODIFIED:20201026T052556Z
UID:4538-1603821600-1603868400@www.jingege.wang
SUMMARY:2B cell 分盘  for ZNRD-as1
DESCRIPTION:2B cell 分盘 for shZNRD-as1/pZNRD1-as1 \n4小皿
URL:https://www.jingege.wang/event/2b-cell-%e5%88%86%e7%9b%98-for-znrd-as1/
CATEGORIES:YTHDC2
END:VEVENT
BEGIN:VEVENT
DTSTART;TZID=Asia/Shanghai:20201013T010000
DTEND;TZID=Asia/Shanghai:20201013T010000
DTSTAMP:20260422T005410
CREATED:20201008T080742Z
LAST-MODIFIED:20201008T080743Z
UID:4292-1602550800-1602550800@www.jingege.wang
SUMMARY:慢病毒转染
DESCRIPTION:ZNRD1-AS1/MCM7慢病毒转染
URL:https://www.jingege.wang/event/%e6%85%a2%e7%97%85%e6%af%92%e8%bd%ac%e6%9f%93/
CATEGORIES:YTHDC2,实验安排
END:VEVENT
BEGIN:VEVENT
DTSTART;TZID=Asia/Shanghai:20201013T010000
DTEND;TZID=Asia/Shanghai:20201013T010000
DTSTAMP:20260422T005410
CREATED:20201008T080553Z
LAST-MODIFIED:20201008T080553Z
UID:4290-1602550800-1602550800@www.jingege.wang
SUMMARY:收病毒上清2
DESCRIPTION:72小时收病毒上清
URL:https://www.jingege.wang/event/%e6%94%b6%e7%97%85%e6%af%92%e4%b8%8a%e6%b8%852/
CATEGORIES:YTHDC2,实验安排
END:VEVENT
BEGIN:VEVENT
DTSTART;TZID=Asia/Shanghai:20201012T010000
DTEND;TZID=Asia/Shanghai:20201012T010000
DTSTAMP:20260422T005410
CREATED:20201008T080457Z
LAST-MODIFIED:20201008T080457Z
UID:4288-1602464400-1602464400@www.jingege.wang
SUMMARY:收病毒上清
DESCRIPTION:48小时收病毒上清
URL:https://www.jingege.wang/event/%e6%94%b6%e7%97%85%e6%af%92%e4%b8%8a%e6%b8%85/
CATEGORIES:YTHDC2,实验安排
END:VEVENT
BEGIN:VEVENT
DTSTART;TZID=Asia/Shanghai:20201010T010000
DTEND;TZID=Asia/Shanghai:20201010T020000
DTSTAMP:20260422T005410
CREATED:20201008T080345Z
LAST-MODIFIED:20201008T080345Z
UID:4286-1602291600-1602295200@www.jingege.wang
SUMMARY:转染293T细胞
DESCRIPTION:转染293T，慢病毒包装（ZNRD1-AS1，MCM7（miR-106b/93））
URL:https://www.jingege.wang/event/%e8%bd%ac%e6%9f%93293t%e7%bb%86%e8%83%9e/
CATEGORIES:YTHDC2,实验安排
END:VEVENT
BEGIN:VEVENT
DTSTART;TZID=Asia/Shanghai:20200925T183000
DTEND;TZID=Asia/Shanghai:20200926T073000
DTSTAMP:20260422T005410
CREATED:20200923T000912Z
LAST-MODIFIED:20200923T000912Z
UID:4219-1601058600-1601105400@www.jingege.wang
SUMMARY:ZNRD1-AS1 转染
DESCRIPTION:pZNRD-AS1和shZNRD1-AS1转染H1299细胞–>裸鼠移植
URL:https://www.jingege.wang/event/znrd1-as1-%e8%bd%ac%e6%9f%93/
CATEGORIES:YTHDC2
END:VEVENT
BEGIN:VEVENT
DTSTART;TZID=Asia/Shanghai:20200924T180000
DTEND;TZID=Asia/Shanghai:20200924T190000
DTSTAMP:20260422T005410
CREATED:20200923T000623Z
LAST-MODIFIED:20200923T000623Z
UID:4217-1600970400-1600974000@www.jingege.wang
SUMMARY:H1299细胞分盘
DESCRIPTION:H1299细胞分盘，for ZNRD1-AS1过表达敲低
URL:https://www.jingege.wang/event/h1299%e7%bb%86%e8%83%9e%e5%88%86%e7%9b%98/
CATEGORIES:YTHDC2
END:VEVENT
BEGIN:VEVENT
DTSTART;VALUE=DATE:20200923
DTEND;VALUE=DATE:20200928
DTSTAMP:20260422T005410
CREATED:20200923T000201Z
LAST-MODIFIED:20200923T000414Z
UID:4213-1600848000-1601193599@www.jingege.wang
SUMMARY:YTHDC2文章修改
DESCRIPTION:加上动物实验和部分验证  成新整理文章架构
URL:https://www.jingege.wang/event/ythdc2%e6%96%87%e7%ab%a0%e4%bf%ae%e6%94%b9/
CATEGORIES:YTHDC2
END:VEVENT
END:VCALENDAR