BEGIN:VCALENDAR
VERSION:2.0
PRODID:-//王进的个人网站 - ECPv5.10.0//NONSGML v1.0//EN
CALSCALE:GREGORIAN
METHOD:PUBLISH
X-WR-CALNAME:王进的个人网站
X-ORIGINAL-URL:https://www.jingege.wang
X-WR-CALDESC:Events for 王进的个人网站
BEGIN:VTIMEZONE
TZID:Asia/Shanghai
BEGIN:STANDARD
TZOFFSETFROM:+0800
TZOFFSETTO:+0800
TZNAME:CST
DTSTART:20200101T000000
END:STANDARD
END:VTIMEZONE
BEGIN:VEVENT
DTSTART;TZID=Asia/Shanghai:20201130T160000
DTEND;TZID=Asia/Shanghai:20201201T010000
DTSTAMP:20260421T171646
CREATED:20201129T075915Z
LAST-MODIFIED:20201129T075915Z
UID:4766-1606752000-1606784400@www.jingege.wang
SUMMARY:Ki67 CDH1 CDH2 cyclin D1 IHC
DESCRIPTION:
URL:https://www.jingege.wang/event/ki67-cdh1-cdh2-cyclin-d1-ihc/
CATEGORIES:YTHDC2
END:VEVENT
BEGIN:VEVENT
DTSTART;TZID=Asia/Shanghai:20201212T180000
DTEND;TZID=Asia/Shanghai:20201212T200000
DTSTAMP:20260421T171646
CREATED:20201211T090732Z
LAST-MODIFIED:20201211T090732Z
UID:4894-1607796000-1607803200@www.jingege.wang
SUMMARY:RIP PCR CYLD
DESCRIPTION:
URL:https://www.jingege.wang/event/rip-pcr-cyld/
CATEGORIES:YTHDC2
END:VEVENT
BEGIN:VEVENT
DTSTART;TZID=Asia/Shanghai:20201213T160000
DTEND;TZID=Asia/Shanghai:20201214T010000
DTSTAMP:20260421T171646
CREATED:20201211T075516Z
LAST-MODIFIED:20201211T075516Z
UID:4890-1607875200-1607907600@www.jingege.wang
SUMMARY:MeRIP样本准备
DESCRIPTION:2B，H1299，A549 分盘–>提total RNA
URL:https://www.jingege.wang/event/merip%e6%a0%b7%e6%9c%ac%e5%87%86%e5%a4%87/
CATEGORIES:YTHDC2
END:VEVENT
BEGIN:VEVENT
DTSTART;TZID=Asia/Shanghai:20201216T160000
DTEND;TZID=Asia/Shanghai:20201217T010000
DTSTAMP:20260421T171646
CREATED:20201211T075648Z
LAST-MODIFIED:20201211T075648Z
UID:4892-1608134400-1608166800@www.jingege.wang
SUMMARY:MeRIP免疫共沉淀
DESCRIPTION:
URL:https://www.jingege.wang/event/merip%e5%85%8d%e7%96%ab%e5%85%b1%e6%b2%89%e6%b7%80/
CATEGORIES:YTHDC2
END:VEVENT
END:VCALENDAR