BEGIN:VCALENDAR
VERSION:2.0
PRODID:-//王进的个人网站 - ECPv5.10.0//NONSGML v1.0//EN
CALSCALE:GREGORIAN
METHOD:PUBLISH
X-WR-CALNAME:王进的个人网站
X-ORIGINAL-URL:https://www.jingege.wang
X-WR-CALDESC:Events for 王进的个人网站
BEGIN:VTIMEZONE
TZID:Asia/Shanghai
BEGIN:STANDARD
TZOFFSETFROM:+0800
TZOFFSETTO:+0800
TZNAME:CST
DTSTART:20200101T000000
END:STANDARD
END:VTIMEZONE
BEGIN:VEVENT
DTSTART;VALUE=DATE:20210428
DTEND;VALUE=DATE:20210429
DTSTAMP:20260424T185216
CREATED:20210413T085643Z
LAST-MODIFIED:20210413T085643Z
UID:5478-1619568000-1619654399@www.jingege.wang
SUMMARY:学术科技文化节
DESCRIPTION:
URL:https://www.jingege.wang/event/%e5%ad%a6%e6%9c%af%e7%a7%91%e6%8a%80%e6%96%87%e5%8c%96%e8%8a%82/
CATEGORIES:生活安排
END:VEVENT
BEGIN:VEVENT
DTSTART;TZID=Asia/Shanghai:20210325T100000
DTEND;TZID=Asia/Shanghai:20210325T140000
DTSTAMP:20260424T185216
CREATED:20210323T003338Z
LAST-MODIFIED:20210323T003338Z
UID:5452-1616666400-1616680800@www.jingege.wang
SUMMARY:车辆三个月保养
DESCRIPTION:
URL:https://www.jingege.wang/event/%e8%bd%a6%e8%be%86%e4%b8%89%e4%b8%aa%e6%9c%88%e4%bf%9d%e5%85%bb/
CATEGORIES:生活安排
END:VEVENT
BEGIN:VEVENT
DTSTART;TZID=Asia/Shanghai:20210325T080000
DTEND;TZID=Asia/Shanghai:20210325T100000
DTSTAMP:20260424T185216
CREATED:20210321T164455Z
LAST-MODIFIED:20210321T164455Z
UID:5445-1616659200-1616666400@www.jingege.wang
SUMMARY:宝宝预防针
DESCRIPTION:车坊医院
URL:https://www.jingege.wang/event/%e5%ae%9d%e5%ae%9d%e9%a2%84%e9%98%b2%e9%92%88/
CATEGORIES:生活安排
END:VEVENT
BEGIN:VEVENT
DTSTART;TZID=Asia/Shanghai:20201212T210000
DTEND;TZID=Asia/Shanghai:20201213T010000
DTSTAMP:20260424T185216
CREATED:20201201T222153Z
LAST-MODIFIED:20201201T222153Z
UID:4771-1607806800-1607821200@www.jingege.wang
SUMMARY:开题报告交流
DESCRIPTION:原定于12月5日下午13:00举办的开题报告交流因故改期为12月12日（下周六）下午13:00，会议将通过线下（独墅湖校区医学楼四楼会议室）+线上（腾讯会议号：478934128）的方式同步进行。
URL:https://www.jingege.wang/event/%e5%bc%80%e9%a2%98%e6%8a%a5%e5%91%8a%e4%ba%a4%e6%b5%81/
CATEGORIES:生活安排
END:VEVENT
BEGIN:VEVENT
DTSTART;VALUE=DATE:20201209
DTEND;VALUE=DATE:20201211
DTSTAMP:20260424T185216
CREATED:20201201T222036Z
LAST-MODIFIED:20201201T222036Z
UID:4769-1607500800-1607587199@www.jingege.wang
SUMMARY:第十届“南通大学•苏州大学”医学研究生学术交流论坛
DESCRIPTION:一、指导思想： \n本论坛以习近平总书记的“人才观”为思想，以“沟通与分享，创新与进步” 为主题，旨在为两所高校的研究生提供一个学术交流的公共平台，为各个学科各相关专业研究生提供一个学术探讨和了解前沿研究领域的机会。 \n二、论坛主题： \n沟通与分享，创新与进步 \n三、参加对象： \n南通大学研究生、苏州大学研究生 \n四、论坛时间： \n2020年12月9日 \n五、论坛地点： \n南通大学C4学术报告厅 \n六、参加对象：（拟100人） \n南通大学研究生和本科生、苏州大学研究生
URL:https://www.jingege.wang/event/%e7%ac%ac%e5%8d%81%e5%b1%8a%e5%8d%97%e9%80%9a%e5%a4%a7%e5%ad%a6%e8%8b%8f%e5%b7%9e%e5%a4%a7%e5%ad%a6%e5%8c%bb%e5%ad%a6%e7%a0%94%e7%a9%b6%e7%94%9f%e5%ad%a6%e6%9c%af%e4%ba%a4/
CATEGORIES:生活安排
END:VEVENT
BEGIN:VEVENT
DTSTART;VALUE=DATE:20201124
DTEND;VALUE=DATE:20201126
DTSTAMP:20260424T185216
CREATED:20201120T081209Z
LAST-MODIFIED:20201120T081209Z
UID:4719-1606204800-1606291199@www.jingege.wang
SUMMARY:See The Future-2020英论阁在线国际学术研讨会
DESCRIPTION:See The Future-2020英论阁在线国际学术研讨会\nhttps://www.enago.cn/see-the-future/conference-2020/
URL:https://www.jingege.wang/event/see-the-future-2020%e8%8b%b1%e8%ae%ba%e9%98%81%e5%9c%a8%e7%ba%bf%e5%9b%bd%e9%99%85%e5%ad%a6%e6%9c%af%e7%a0%94%e8%ae%a8%e4%bc%9a/
CATEGORIES:生活安排
END:VEVENT
BEGIN:VEVENT
DTSTART;TZID=Asia/Shanghai:20201116T160000
DTEND;TZID=Asia/Shanghai:20201117T060000
DTSTAMP:20260424T185216
CREATED:20201115T171212Z
LAST-MODIFIED:20201115T171212Z
UID:4665-1605542400-1605592800@www.jingege.wang
SUMMARY:硕博论坛PPT
DESCRIPTION:
URL:https://www.jingege.wang/event/%e7%a1%95%e5%8d%9a%e8%ae%ba%e5%9d%9bppt/
CATEGORIES:生活安排
END:VEVENT
BEGIN:VEVENT
DTSTART;TZID=Asia/Shanghai:20201116T160000
DTEND;TZID=Asia/Shanghai:20201117T010000
DTSTAMP:20260424T185216
CREATED:20201115T171456Z
LAST-MODIFIED:20201115T171456Z
UID:4667-1605542400-1605574800@www.jingege.wang
SUMMARY:个人简历更新
DESCRIPTION:https://www.jingege.wang/CV \nCV更新
URL:https://www.jingege.wang/event/%e4%b8%aa%e4%ba%ba%e7%ae%80%e5%8e%86%e6%9b%b4%e6%96%b0/
CATEGORIES:生活安排
END:VEVENT
BEGIN:VEVENT
DTSTART;TZID=Asia/Shanghai:20201010T190000
DTEND;TZID=Asia/Shanghai:20201010T230000
DTSTAMP:20260424T185216
CREATED:20201008T081016Z
LAST-MODIFIED:20201008T081016Z
UID:4296-1602356400-1602370800@www.jingege.wang
SUMMARY:科目二考试
DESCRIPTION:关山科目二考试
URL:https://www.jingege.wang/event/%e7%a7%91%e7%9b%ae%e4%ba%8c%e8%80%83%e8%af%95/
CATEGORIES:生活安排
END:VEVENT
BEGIN:VEVENT
DTSTART;TZID=Asia/Shanghai:20201009T170000
DTEND;TZID=Asia/Shanghai:20201010T000000
DTSTAMP:20260424T185216
CREATED:20201008T080914Z
LAST-MODIFIED:20201008T080914Z
UID:4294-1602262800-1602288000@www.jingege.wang
SUMMARY:科目二熟悉考场
DESCRIPTION:关山熟悉考场
URL:https://www.jingege.wang/event/%e7%a7%91%e7%9b%ae%e4%ba%8c%e7%86%9f%e6%82%89%e8%80%83%e5%9c%ba/
CATEGORIES:生活安排
END:VEVENT
BEGIN:VEVENT
DTSTART;TZID=Asia/Shanghai:20200928T213000
DTEND;TZID=Asia/Shanghai:20200928T233000
DTSTAMP:20260424T185216
CREATED:20200925T071323Z
LAST-MODIFIED:20200925T071323Z
UID:4224-1601328600-1601335800@www.jingege.wang
SUMMARY:Group meeting
DESCRIPTION:
URL:https://www.jingege.wang/event/group-meeting-2/
CATEGORIES:生活安排
END:VEVENT
BEGIN:VEVENT
DTSTART;VALUE=DATE:20200928
DTEND;VALUE=DATE:20200930
DTSTAMP:20260424T185216
CREATED:20200925T071217Z
LAST-MODIFIED:20200925T071217Z
UID:4222-1601280000-1601366399@www.jingege.wang
SUMMARY:国奖答辩
DESCRIPTION:
URL:https://www.jingege.wang/event/%e5%9b%bd%e5%a5%96%e7%ad%94%e8%be%a9/
CATEGORIES:生活安排
END:VEVENT
BEGIN:VEVENT
DTSTART;TZID=Asia/Shanghai:20200924T030000
DTEND;TZID=Asia/Shanghai:20200924T040000
DTSTAMP:20260424T185216
CREATED:20200922T191553Z
LAST-MODIFIED:20200922T191553Z
UID:4211-1600916400-1600920000@www.jingege.wang
SUMMARY:腾讯会议：如何成功投稿肿瘤领域国际期刊
DESCRIPTION:Therapeutic Advances in Medical Oncology (IF: 6.852) 执行主编将作为主讲人，为大家介绍：作者在投稿和撰写论文时，应注意的事项、规避的问题及疏漏，以及国际期刊编辑期待怎样的稿件等内容。
URL:https://www.jingege.wang/event/%e8%85%be%e8%ae%af%e4%bc%9a%e8%ae%ae%ef%bc%9a%e5%a6%82%e4%bd%95%e6%88%90%e5%8a%9f%e6%8a%95%e7%a8%bf%e8%82%bf%e7%98%a4%e9%a2%86%e5%9f%9f%e5%9b%bd%e9%99%85%e6%9c%9f%e5%88%8a/
CATEGORIES:生活安排
END:VEVENT
BEGIN:VEVENT
DTSTART;TZID=Asia/Shanghai:20200923T170000
DTEND;TZID=Asia/Shanghai:20200923T180000
DTSTAMP:20260424T185216
CREATED:20200921T223139Z
LAST-MODIFIED:20200921T223139Z
UID:4182-1600880400-1600884000@www.jingege.wang
SUMMARY:徐茜课题讨论
DESCRIPTION:
URL:https://www.jingege.wang/event/%e5%be%90%e8%8c%9c%e8%af%be%e9%a2%98%e8%ae%a8%e8%ae%ba/
CATEGORIES:实验安排,生活安排
END:VEVENT
BEGIN:VEVENT
DTSTART;TZID=Asia/Shanghai:20200919T180000
DTEND;TZID=Asia/Shanghai:20200920T000000
DTSTAMP:20260424T185216
CREATED:20200911T045524Z
LAST-MODIFIED:20200911T045524Z
UID:4009-1600538400-1600560000@www.jingege.wang
SUMMARY:施晓荷班长婚礼
DESCRIPTION:章鹏&施晓荷的婚礼邀约
URL:https://www.jingege.wang/event/%e6%96%bd%e6%99%93%e8%8d%b7%e7%8f%ad%e9%95%bf%e5%a9%9a%e7%a4%bc/
LOCATION:武进假日酒店\, 武进假日酒店\, 常州\, 江苏\, 中国
CATEGORIES:生活安排
END:VEVENT
BEGIN:VEVENT
DTSTART;TZID=Asia/Shanghai:20200918T030000
DTEND;TZID=Asia/Shanghai:20200920T060000
DTSTAMP:20260424T185216
CREATED:20200908T053254Z
LAST-MODIFIED:20200908T053905Z
UID:3938-1600398000-1600581600@www.jingege.wang
SUMMARY:2020第四届RWE真实世界研究峰会
DESCRIPTION:真实世界证据和真实世界研究的概念自2009年左右被提出，在政，学，产等通过多方联手推动下，发展的十分迅速。回顾过往，真实世界研究在医疗行业已经发挥出越来越大的影响力！\n\n由梅斯医学和生物谷举办的2020第四届RWE真实世界研究峰会日前正拉开序幕将于2020年9月18-19日在上海淳大万丽酒店召开。即日起报名通道正式启动，本次大会以《变革之下 聚焦创新》为大会主题，在成功举办前三届的基础上，今年我们就学术前沿，行业发展，行业政策等三个方面进行广泛深入的探讨，期望扩大行业辐射范围，共同推动真实世界研究领域的健康发展！\n\n大会邀请了国内相关领域、学术界多位知名专家学者，共同探讨真实世界研究领域的新发展及应用。大会议程包括：政策学院场，企业专场，案例分享专场三个专场，热烈欢迎全国各地参会者踊跃报名，积极参与！\n\n在RWE会场的你，也会在这股浪潮的顶峰，与医疗行业巨头们一起，俯视真实世界研究最为璀璨的光华。
URL:https://www.jingege.wang/event/2020%e7%ac%ac%e5%9b%9b%e5%b1%8arwe%e7%9c%9f%e5%ae%9e%e4%b8%96%e7%95%8c%e7%a0%94%e7%a9%b6%e5%b3%b0%e4%bc%9a/
CATEGORIES:生活安排
ATTACH;FMTTYPE=image/png:https://www.jingege.wang/wp-content/uploads/2020/09/微信图片_20200908212930.png
END:VEVENT
BEGIN:VEVENT
DTSTART;TZID=Asia/Shanghai:20200911T160000
DTEND;TZID=Asia/Shanghai:20200911T193000
DTSTAMP:20260424T185216
CREATED:20200908T053526Z
LAST-MODIFIED:20200908T053526Z
UID:3941-1599840000-1599852600@www.jingege.wang
SUMMARY:Group meeting
DESCRIPTION:组会
URL:https://www.jingege.wang/event/group-meeting/
CATEGORIES:生活安排
END:VEVENT
END:VCALENDAR