BEGIN:VCALENDAR
VERSION:2.0
PRODID:-//王进的个人网站 - ECPv5.10.0//NONSGML v1.0//EN
CALSCALE:GREGORIAN
METHOD:PUBLISH
X-WR-CALNAME:王进的个人网站
X-ORIGINAL-URL:https://www.jingege.wang
X-WR-CALDESC:Events for 王进的个人网站
BEGIN:VTIMEZONE
TZID:Asia/Shanghai
BEGIN:STANDARD
TZOFFSETFROM:+0800
TZOFFSETTO:+0800
TZNAME:CST
DTSTART:20200101T000000
END:STANDARD
END:VTIMEZONE
BEGIN:VEVENT
DTSTART;VALUE=DATE:20200928
DTEND;VALUE=DATE:20200930
DTSTAMP:20260425T001439
CREATED:20200925T071217Z
LAST-MODIFIED:20200925T071217Z
UID:4222-1601280000-1601366399@www.jingege.wang
SUMMARY:国奖答辩
DESCRIPTION:
URL:https://www.jingege.wang/event/%e5%9b%bd%e5%a5%96%e7%ad%94%e8%be%a9/
CATEGORIES:生活安排
END:VEVENT
BEGIN:VEVENT
DTSTART;TZID=Asia/Shanghai:20200928T213000
DTEND;TZID=Asia/Shanghai:20200928T233000
DTSTAMP:20260425T001439
CREATED:20200925T071323Z
LAST-MODIFIED:20200925T071323Z
UID:4224-1601328600-1601335800@www.jingege.wang
SUMMARY:Group meeting
DESCRIPTION:
URL:https://www.jingege.wang/event/group-meeting-2/
CATEGORIES:生活安排
END:VEVENT
END:VCALENDAR