BEGIN:VCALENDAR
VERSION:2.0
PRODID:-//王进的个人网站 - ECPv5.10.0//NONSGML v1.0//EN
CALSCALE:GREGORIAN
METHOD:PUBLISH
X-WR-CALNAME:王进的个人网站
X-ORIGINAL-URL:https://www.jingege.wang
X-WR-CALDESC:Events for 王进的个人网站
BEGIN:VTIMEZONE
TZID:Asia/Shanghai
BEGIN:STANDARD
TZOFFSETFROM:+0800
TZOFFSETTO:+0800
TZNAME:CST
DTSTART:20200101T000000
END:STANDARD
END:VTIMEZONE
BEGIN:VEVENT
DTSTART;TZID=Asia/Shanghai:20201116T160000
DTEND;TZID=Asia/Shanghai:20201117T010000
DTSTAMP:20260424T221104
CREATED:20201115T171456Z
LAST-MODIFIED:20201115T171456Z
UID:4667-1605542400-1605574800@www.jingege.wang
SUMMARY:个人简历更新
DESCRIPTION:https://www.jingege.wang/CV \nCV更新
URL:https://www.jingege.wang/event/%e4%b8%aa%e4%ba%ba%e7%ae%80%e5%8e%86%e6%9b%b4%e6%96%b0/
CATEGORIES:生活安排
END:VEVENT
BEGIN:VEVENT
DTSTART;TZID=Asia/Shanghai:20201116T160000
DTEND;TZID=Asia/Shanghai:20201117T060000
DTSTAMP:20260424T221104
CREATED:20201115T171212Z
LAST-MODIFIED:20201115T171212Z
UID:4665-1605542400-1605592800@www.jingege.wang
SUMMARY:硕博论坛PPT
DESCRIPTION:
URL:https://www.jingege.wang/event/%e7%a1%95%e5%8d%9a%e8%ae%ba%e5%9d%9bppt/
CATEGORIES:生活安排
END:VEVENT
END:VCALENDAR