BEGIN:VCALENDAR
VERSION:2.0
PRODID:-//王进的个人网站 - ECPv5.10.0//NONSGML v1.0//EN
CALSCALE:GREGORIAN
METHOD:PUBLISH
X-WR-CALNAME:王进的个人网站
X-ORIGINAL-URL:https://www.jingege.wang
X-WR-CALDESC:Events for 王进的个人网站
BEGIN:VTIMEZONE
TZID:Asia/Shanghai
BEGIN:STANDARD
TZOFFSETFROM:+0800
TZOFFSETTO:+0800
TZNAME:CST
DTSTART:20200101T000000
END:STANDARD
END:VTIMEZONE
BEGIN:VEVENT
DTSTART;TZID=Asia/Shanghai:20201118T160000
DTEND;TZID=Asia/Shanghai:20201119T010000
DTSTAMP:20260420T112804
CREATED:20201117T175705Z
LAST-MODIFIED:20201117T175705Z
UID:4708-1605715200-1605747600@www.jingege.wang
SUMMARY:体外转录—探针合成
DESCRIPTION:体外转录：pull-down探针合成 \n\n			打赏赞(1)微海报分享
URL:https://www.jingege.wang/event/%e4%bd%93%e5%a4%96%e8%bd%ac%e5%bd%95-%e6%8e%a2%e9%92%88%e5%90%88%e6%88%90/
CATEGORIES:YTHDC2
END:VEVENT
END:VCALENDAR