BEGIN:VCALENDAR
VERSION:2.0
PRODID:-//王进的个人网站 - ECPv5.10.0//NONSGML v1.0//EN
CALSCALE:GREGORIAN
METHOD:PUBLISH
X-WR-CALNAME:王进的个人网站
X-ORIGINAL-URL:https://www.jingege.wang
X-WR-CALDESC:Events for 王进的个人网站
BEGIN:VTIMEZONE
TZID:Asia/Shanghai
BEGIN:STANDARD
TZOFFSETFROM:+0800
TZOFFSETTO:+0800
TZNAME:CST
DTSTART:20200101T000000
END:STANDARD
END:VTIMEZONE
BEGIN:VEVENT
DTSTART;TZID=Asia/Shanghai:20201109T160000
DTEND;TZID=Asia/Shanghai:20201110T010000
DTSTAMP:20260420T035620
CREATED:20201108T072053Z
LAST-MODIFIED:20201108T072644Z
UID:4649-1604937600-1604970000@www.jingege.wang
SUMMARY:PCR for CEP120 et. al
DESCRIPTION:for RNA stability absolute qPCR \n\n			打赏赞微海报分享
URL:https://www.jingege.wang/event/pcr-for-cep120-et-al/
CATEGORIES:其它实验
END:VEVENT
END:VCALENDAR