BEGIN:VCALENDAR
VERSION:2.0
PRODID:-//王进的个人网站 - ECPv5.10.0//NONSGML v1.0//EN
CALSCALE:GREGORIAN
METHOD:PUBLISH
X-WR-CALNAME:王进的个人网站
X-ORIGINAL-URL:https://www.jingege.wang
X-WR-CALDESC:Events for 王进的个人网站
BEGIN:VTIMEZONE
TZID:Asia/Shanghai
BEGIN:STANDARD
TZOFFSETFROM:+0800
TZOFFSETTO:+0800
TZNAME:CST
DTSTART:20200101T000000
END:STANDARD
END:VTIMEZONE
BEGIN:VEVENT
DTSTART;TZID=Asia/Shanghai:20201109T170000
DTEND;TZID=Asia/Shanghai:20201110T010000
DTSTAMP:20260420T035620
CREATED:20201107T063442Z
LAST-MODIFIED:20201107T063442Z
UID:4645-1604941200-1604970000@www.jingege.wang
SUMMARY:PCR for ZNRD1-AS1 segment
DESCRIPTION:ZNRD1-AS1六个片段PCR \n\n			打赏赞微海报分享
URL:https://www.jingege.wang/event/pcr-for-znrd1-as1-segment/
CATEGORIES:YTHDC2
END:VEVENT
END:VCALENDAR