BEGIN:VCALENDAR
VERSION:2.0
PRODID:-//王进的个人网站 - ECPv5.10.0//NONSGML v1.0//EN
CALSCALE:GREGORIAN
METHOD:PUBLISH
X-WR-CALNAME:王进的个人网站
X-ORIGINAL-URL:https://www.jingege.wang
X-WR-CALDESC:Events for 王进的个人网站
BEGIN:VTIMEZONE
TZID:Asia/Shanghai
BEGIN:STANDARD
TZOFFSETFROM:+0800
TZOFFSETTO:+0800
TZNAME:CST
DTSTART:20200101T000000
END:STANDARD
END:VTIMEZONE
BEGIN:VEVENT
DTSTART;TZID=Asia/Shanghai:20200923T220000
DTEND;TZID=Asia/Shanghai:20200925T020000
DTSTAMP:20260421T155906
CREATED:20200921T222938Z
LAST-MODIFIED:20200921T222938Z
UID:4180-1600898400-1600999200@www.jingege.wang
SUMMARY:qPCR for m6A干预细胞
DESCRIPTION:qPCR检测TTN-AS1 IRX2 ZNRD1-AS1表达量 \n\n			打赏赞微海报分享
URL:https://www.jingege.wang/event/qpcr-for-m6a%e5%b9%b2%e9%a2%84%e7%bb%86%e8%83%9e/
CATEGORIES:实验安排
END:VEVENT
END:VCALENDAR