BEGIN:VCALENDAR
VERSION:2.0
PRODID:-//王进的个人网站 - ECPv5.10.0//NONSGML v1.0//EN
CALSCALE:GREGORIAN
METHOD:PUBLISH
X-WR-CALNAME:王进的个人网站
X-ORIGINAL-URL:https://www.jingege.wang
X-WR-CALDESC:Events for 王进的个人网站
BEGIN:VTIMEZONE
TZID:Asia/Shanghai
BEGIN:STANDARD
TZOFFSETFROM:+0800
TZOFFSETTO:+0800
TZNAME:CST
DTSTART:20200101T000000
END:STANDARD
END:VTIMEZONE
BEGIN:VEVENT
DTSTART;TZID=Asia/Shanghai:20201104T160000
DTEND;TZID=Asia/Shanghai:20201105T010000
DTSTAMP:20260420T000507
CREATED:20201102T180526Z
LAST-MODIFIED:20201103T014214Z
UID:4594-1604505600-1604538000@www.jingege.wang
SUMMARY:WB for ZNRD1-AS1转染细胞
DESCRIPTION:WB for ZNRD1-AS1转染细胞 \ntarget：CDH1/CDH2/ki67/GAPDH \n\n			打赏赞微海报分享
URL:https://www.jingege.wang/event/wb-for-znrd1-as1%e8%bd%ac%e6%9f%93%e7%bb%86%e8%83%9e/
CATEGORIES:YTHDC2
END:VEVENT
END:VCALENDAR